BEGIN:VCALENDAR
VERSION:2.0
PRODID:-//The Aberlour&#039;s - ECPv6.15.17.1//NONSGML v1.0//EN
CALSCALE:GREGORIAN
METHOD:PUBLISH
X-WR-CALNAME:The Aberlour&#039;s
X-ORIGINAL-URL:https://www.aberlours.de
X-WR-CALDESC:Veranstaltungen für The Aberlour&#039;s
REFRESH-INTERVAL;VALUE=DURATION:PT1H
X-Robots-Tag:noindex
X-PUBLISHED-TTL:PT1H
BEGIN:VTIMEZONE
TZID:Europe/Berlin
BEGIN:DAYLIGHT
TZOFFSETFROM:+0100
TZOFFSETTO:+0200
TZNAME:CEST
DTSTART:20150329T010000
END:DAYLIGHT
BEGIN:STANDARD
TZOFFSETFROM:+0200
TZOFFSETTO:+0100
TZNAME:CET
DTSTART:20151025T010000
END:STANDARD
BEGIN:DAYLIGHT
TZOFFSETFROM:+0100
TZOFFSETTO:+0200
TZNAME:CEST
DTSTART:20160327T010000
END:DAYLIGHT
BEGIN:STANDARD
TZOFFSETFROM:+0200
TZOFFSETTO:+0100
TZNAME:CET
DTSTART:20161030T010000
END:STANDARD
BEGIN:DAYLIGHT
TZOFFSETFROM:+0100
TZOFFSETTO:+0200
TZNAME:CEST
DTSTART:20170326T010000
END:DAYLIGHT
BEGIN:STANDARD
TZOFFSETFROM:+0200
TZOFFSETTO:+0100
TZNAME:CET
DTSTART:20171029T010000
END:STANDARD
END:VTIMEZONE
BEGIN:VEVENT
DTSTART;VALUE=DATE:20160806
DTEND;VALUE=DATE:20160807
DTSTAMP:20260420T183124
CREATED:20160418T085434Z
LAST-MODIFIED:20160418T085434Z
UID:5894-1470441600-1470527999@www.aberlours.de
SUMMARY:Insel Poel Mittelaltermarkt
DESCRIPTION:The ABERLOUR’S  – TRIO ! \nAuftrittszeiten in Kürze.
URL:https://www.aberlours.de/konzert/insel-poel-mittelaltermarkt-2/
LOCATION:Kirchdorf/Poel Mittelaltermarkt\, Gemeinde Poel\, Deutschland
CATEGORIES:OTTERTOUR
ATTACH;FMTTYPE=image/jpeg:https://www.aberlours.de/wp-content/uploads/2016/03/tourplan-ottertour-1.jpg
END:VEVENT
END:VCALENDAR