BEGIN:VCALENDAR
VERSION:2.0
PRODID:-//The Aberlour&#039;s - ECPv6.15.17.1//NONSGML v1.0//EN
CALSCALE:GREGORIAN
METHOD:PUBLISH
X-WR-CALNAME:The Aberlour&#039;s
X-ORIGINAL-URL:https://www.aberlours.de
X-WR-CALDESC:Veranstaltungen für The Aberlour&#039;s
REFRESH-INTERVAL;VALUE=DURATION:PT1H
X-Robots-Tag:noindex
X-PUBLISHED-TTL:PT1H
BEGIN:VTIMEZONE
TZID:Europe/Berlin
BEGIN:DAYLIGHT
TZOFFSETFROM:+0100
TZOFFSETTO:+0200
TZNAME:CEST
DTSTART:20220327T010000
END:DAYLIGHT
BEGIN:STANDARD
TZOFFSETFROM:+0200
TZOFFSETTO:+0100
TZNAME:CET
DTSTART:20221030T010000
END:STANDARD
BEGIN:DAYLIGHT
TZOFFSETFROM:+0100
TZOFFSETTO:+0200
TZNAME:CEST
DTSTART:20230326T010000
END:DAYLIGHT
BEGIN:STANDARD
TZOFFSETFROM:+0200
TZOFFSETTO:+0100
TZNAME:CET
DTSTART:20231029T010000
END:STANDARD
BEGIN:DAYLIGHT
TZOFFSETFROM:+0100
TZOFFSETTO:+0200
TZNAME:CEST
DTSTART:20240331T010000
END:DAYLIGHT
BEGIN:STANDARD
TZOFFSETFROM:+0200
TZOFFSETTO:+0100
TZNAME:CET
DTSTART:20241027T010000
END:STANDARD
END:VTIMEZONE
BEGIN:VEVENT
DTSTART;TZID=Europe/Berlin:20230712T160000
DTEND;TZID=Europe/Berlin:20230712T190000
DTSTAMP:20260420T084607
CREATED:20230704T135004Z
LAST-MODIFIED:20230704T135004Z
UID:10284-1689177600-1689188400@www.aberlours.de
SUMMARY:Kap Arkona "Woody's"
DESCRIPTION:Hat sich kurzfristig ergeben:  Die ABERLOUR’S im Duo im Kult-Pub „Woody’s“ in Putgarten am Kap Arkona — schon ab 16.00 !! \nSonderkonzert: German Roots & Celtic Spirits
URL:https://www.aberlours.de/konzert/kap-arkona-woodys/
LOCATION:Woody’s\, Dorfstr.23c\, Putgarten\, 18556
CATEGORIES:AB Duo
ATTACH;FMTTYPE=image/png:https://www.aberlours.de/wp-content/uploads/2023/01/A1-AB-Duo-freigestellt-web.png
END:VEVENT
END:VCALENDAR