BEGIN:VCALENDAR
VERSION:2.0
PRODID:-//The Aberlour&#039;s - ECPv6.15.17.1//NONSGML v1.0//EN
CALSCALE:GREGORIAN
METHOD:PUBLISH
X-WR-CALNAME:The Aberlour&#039;s
X-ORIGINAL-URL:https://www.aberlours.de
X-WR-CALDESC:Veranstaltungen für The Aberlour&#039;s
REFRESH-INTERVAL;VALUE=DURATION:PT1H
X-Robots-Tag:noindex
X-PUBLISHED-TTL:PT1H
BEGIN:VTIMEZONE
TZID:Europe/Berlin
BEGIN:DAYLIGHT
TZOFFSETFROM:+0100
TZOFFSETTO:+0200
TZNAME:CEST
DTSTART:20160327T010000
END:DAYLIGHT
BEGIN:STANDARD
TZOFFSETFROM:+0200
TZOFFSETTO:+0100
TZNAME:CET
DTSTART:20161030T010000
END:STANDARD
BEGIN:DAYLIGHT
TZOFFSETFROM:+0100
TZOFFSETTO:+0200
TZNAME:CEST
DTSTART:20170326T010000
END:DAYLIGHT
BEGIN:STANDARD
TZOFFSETFROM:+0200
TZOFFSETTO:+0100
TZNAME:CET
DTSTART:20171029T010000
END:STANDARD
BEGIN:DAYLIGHT
TZOFFSETFROM:+0100
TZOFFSETTO:+0200
TZNAME:CEST
DTSTART:20180325T010000
END:DAYLIGHT
BEGIN:STANDARD
TZOFFSETFROM:+0200
TZOFFSETTO:+0100
TZNAME:CET
DTSTART:20181028T010000
END:STANDARD
END:VTIMEZONE
BEGIN:VEVENT
DTSTART;TZID=Europe/Berlin:20170809T190000
DTEND;TZID=Europe/Berlin:20170809T220000
DTSTAMP:20260423T104113
CREATED:20170507T170052Z
LAST-MODIFIED:20170801T090016Z
UID:6252-1502305200-1502316000@www.aberlours.de
SUMMARY:Lychen Floßkonzert
DESCRIPTION:Die spektakuläre Konzertreihe auf dem Wasser –  schon AUSVERKAUFT! \nTRIO-Version ab 19.00
URL:https://www.aberlours.de/konzert/lychen-flosskonzert/
LOCATION:Treibholz Lychen\, Oberpfuhlstr.3a\, Lychen\, 17279
CATEGORIES:AB Trio
ATTACH;FMTTYPE=image/jpeg:https://www.aberlours.de/wp-content/uploads/2016/03/tourplan-ottertour.jpg
END:VEVENT
END:VCALENDAR