BEGIN:VCALENDAR
VERSION:2.0
PRODID:-//The Aberlour&#039;s - ECPv6.15.17.1//NONSGML v1.0//EN
CALSCALE:GREGORIAN
METHOD:PUBLISH
X-WR-CALNAME:The Aberlour&#039;s
X-ORIGINAL-URL:https://www.aberlours.de
X-WR-CALDESC:Veranstaltungen für The Aberlour&#039;s
REFRESH-INTERVAL;VALUE=DURATION:PT1H
X-Robots-Tag:noindex
X-PUBLISHED-TTL:PT1H
BEGIN:VTIMEZONE
TZID:Europe/Berlin
BEGIN:DAYLIGHT
TZOFFSETFROM:+0100
TZOFFSETTO:+0200
TZNAME:CEST
DTSTART:20250330T010000
END:DAYLIGHT
BEGIN:STANDARD
TZOFFSETFROM:+0200
TZOFFSETTO:+0100
TZNAME:CET
DTSTART:20251026T010000
END:STANDARD
BEGIN:DAYLIGHT
TZOFFSETFROM:+0100
TZOFFSETTO:+0200
TZNAME:CEST
DTSTART:20260329T010000
END:DAYLIGHT
BEGIN:STANDARD
TZOFFSETFROM:+0200
TZOFFSETTO:+0100
TZNAME:CET
DTSTART:20261025T010000
END:STANDARD
BEGIN:DAYLIGHT
TZOFFSETFROM:+0100
TZOFFSETTO:+0200
TZNAME:CEST
DTSTART:20270328T010000
END:DAYLIGHT
BEGIN:STANDARD
TZOFFSETFROM:+0200
TZOFFSETTO:+0100
TZNAME:CET
DTSTART:20271031T010000
END:STANDARD
END:VTIMEZONE
BEGIN:VEVENT
DTSTART;TZID=Europe/Berlin:20260328T200000
DTEND;TZID=Europe/Berlin:20260328T220000
DTSTAMP:20260422T124311
CREATED:20260113T111122Z
LAST-MODIFIED:20260113T111122Z
UID:10975-1774728000-1774735200@www.aberlours.de
SUMMARY:Stallkonzert Elben Nr.1  FLO:RI
DESCRIPTION:Saisoneröffnung der ElbenKonzerte 2026: \nDer klassische Junge von Nebenan – aus Elbens Nachbardorf Freist! Als Teenie hat er schon seine ersten Lieder im Eulenbergschen Hof aufgenommen\, um nun nach einem Chemieingenieursstudium als vermutlich jüngste Lehrkraft an der Hochschule Merseburg trotzdem weiter Songs zu schreiben oder zu covern – mit Gitarre\, Klavier\, Bassdrum\, Schellenring und Looper. Die Themen sind die eines Mittzwanzigers\, die Musik verortet er selbst bei Indie Pop oder Alternative. Man darf gespannt sein! \n20.00   Elben   Eulenbergscher Hof           Achtung:  ausnahmsweise ein Samstag!
URL:https://www.aberlours.de/konzert/stallkonzert-elben-nr-1-flori/
LOCATION:Eulenbergscher Hof Elben\, Elbener Dorfstr.13\, Gerbstedt OT Elben\, 06347\, Deutschland
CATEGORIES:ElbenKonzert
ATTACH;FMTTYPE=image/jpeg:https://www.aberlours.de/wp-content/uploads/2017/03/tourplan-terminbildvorschau-elbenkonzerte.jpg
END:VEVENT
END:VCALENDAR