BEGIN:VCALENDAR
VERSION:2.0
PRODID:-//The Aberlour&#039;s - ECPv6.15.17.1//NONSGML v1.0//EN
CALSCALE:GREGORIAN
METHOD:PUBLISH
X-WR-CALNAME:The Aberlour&#039;s
X-ORIGINAL-URL:https://www.aberlours.de
X-WR-CALDESC:Veranstaltungen für The Aberlour&#039;s
REFRESH-INTERVAL;VALUE=DURATION:PT1H
X-Robots-Tag:noindex
X-PUBLISHED-TTL:PT1H
BEGIN:VTIMEZONE
TZID:Europe/Berlin
BEGIN:DAYLIGHT
TZOFFSETFROM:+0100
TZOFFSETTO:+0200
TZNAME:CEST
DTSTART:20160327T010000
END:DAYLIGHT
BEGIN:STANDARD
TZOFFSETFROM:+0200
TZOFFSETTO:+0100
TZNAME:CET
DTSTART:20161030T010000
END:STANDARD
BEGIN:DAYLIGHT
TZOFFSETFROM:+0100
TZOFFSETTO:+0200
TZNAME:CEST
DTSTART:20170326T010000
END:DAYLIGHT
BEGIN:STANDARD
TZOFFSETFROM:+0200
TZOFFSETTO:+0100
TZNAME:CET
DTSTART:20171029T010000
END:STANDARD
BEGIN:DAYLIGHT
TZOFFSETFROM:+0100
TZOFFSETTO:+0200
TZNAME:CEST
DTSTART:20180325T010000
END:DAYLIGHT
BEGIN:STANDARD
TZOFFSETFROM:+0200
TZOFFSETTO:+0100
TZNAME:CET
DTSTART:20181028T010000
END:STANDARD
END:VTIMEZONE
BEGIN:VEVENT
DTSTART;TZID=Europe/Berlin:20170705T193000
DTEND;TZID=Europe/Berlin:20170705T210000
DTSTAMP:20260426T050341
CREATED:20170423T090732Z
LAST-MODIFIED:20170423T090732Z
UID:6204-1499283000-1499288400@www.aberlours.de
SUMMARY:Theater Eisleben
DESCRIPTION:VILLON – Warum\, zum Teifel\, sollt ich schweigen? \nDas Solo-Programm von Adolphi zum Sommerfest des Eislebener Theaters\, Open Air 19.30 !
URL:https://www.aberlours.de/konzert/theater-eisleben-2/
LOCATION:Theater Eisleben\, Landwehr 5\, Lutherstadt Eisleben\, 06295\, Deutschland
ATTACH;FMTTYPE=image/jpeg:https://www.aberlours.de/wp-content/uploads/2017/04/Villon-par-Adolphi.jpg
END:VEVENT
END:VCALENDAR